BEGIN:VCALENDAR
VERSION:2.0
PRODID:-//Greater Goleta Santa Barbara Lions Club - ECPv6.15.13//NONSGML v1.0//EN
CALSCALE:GREGORIAN
METHOD:PUBLISH
X-WR-CALNAME:Greater Goleta Santa Barbara Lions Club
X-ORIGINAL-URL:https://goletasantabarbaralions.org
X-WR-CALDESC:Events for Greater Goleta Santa Barbara Lions Club
REFRESH-INTERVAL;VALUE=DURATION:PT1H
X-Robots-Tag:noindex
X-PUBLISHED-TTL:PT1H
BEGIN:VTIMEZONE
TZID:America/Los_Angeles
BEGIN:DAYLIGHT
TZOFFSETFROM:-0800
TZOFFSETTO:-0700
TZNAME:PDT
DTSTART:20220313T100000
END:DAYLIGHT
BEGIN:STANDARD
TZOFFSETFROM:-0700
TZOFFSETTO:-0800
TZNAME:PST
DTSTART:20221106T090000
END:STANDARD
BEGIN:DAYLIGHT
TZOFFSETFROM:-0800
TZOFFSETTO:-0700
TZNAME:PDT
DTSTART:20230312T100000
END:DAYLIGHT
BEGIN:STANDARD
TZOFFSETFROM:-0700
TZOFFSETTO:-0800
TZNAME:PST
DTSTART:20231105T090000
END:STANDARD
BEGIN:DAYLIGHT
TZOFFSETFROM:-0800
TZOFFSETTO:-0700
TZNAME:PDT
DTSTART:20240310T100000
END:DAYLIGHT
BEGIN:STANDARD
TZOFFSETFROM:-0700
TZOFFSETTO:-0800
TZNAME:PST
DTSTART:20241103T090000
END:STANDARD
END:VTIMEZONE
BEGIN:VEVENT
DTSTART;TZID=America/Los_Angeles:20230919T120000
DTEND;TZID=America/Los_Angeles:20230919T130000
DTSTAMP:20260423T163708
CREATED:20230612T040636Z
LAST-MODIFIED:20230831T045225Z
UID:1367-1695124800-1695128400@goletasantabarbaralions.org
SUMMARY:Greater Goleta Santa Barbara Lions Club Meeting
DESCRIPTION:Greater Goleta Santa Barbara Lions Club Meeting at Frog Bar and Grill.  Meeting Starts at 12pm.  Lunch will be served.
URL:https://goletasantabarbaralions.org/event/goleta-lions-club-meeting-5/
LOCATION:Glen Annie Golf Club\, 405 Glen Annie Road\, Goleta\, CA\, 93117\, United States
CATEGORIES:Club Meeting
ATTACH;FMTTYPE=image/jpeg:https://goletasantabarbaralions.org/wp-content/uploads/2023/05/GlenAnnie-e1685303090761.jpg
END:VEVENT
BEGIN:VEVENT
DTSTART;TZID=America/Los_Angeles:20230905T173000
DTEND;TZID=America/Los_Angeles:20230905T193000
DTSTAMP:20260423T163708
CREATED:20230612T040532Z
LAST-MODIFIED:20230831T045302Z
UID:1365-1693935000-1693942200@goletasantabarbaralions.org
SUMMARY:Greater Goleta Santa Barbara Lions Club Meeting
DESCRIPTION:Greater Goleta Santa Barbara Lions Club Meeting at Frog Bar and Grill.  Meeting Starts at 5:30pm.  Dinner will be served.
URL:https://goletasantabarbaralions.org/event/goleta-lions-club-meeting-4/
LOCATION:Glen Annie Golf Club\, 405 Glen Annie Road\, Goleta\, CA\, 93117\, United States
CATEGORIES:Club Meeting
ATTACH;FMTTYPE=image/jpeg:https://goletasantabarbaralions.org/wp-content/uploads/2023/05/GlenAnnie-e1685303090761.jpg
END:VEVENT
BEGIN:VEVENT
DTSTART;TZID=America/Los_Angeles:20230815T120000
DTEND;TZID=America/Los_Angeles:20230815T130000
DTSTAMP:20260423T163708
CREATED:20230612T035640Z
LAST-MODIFIED:20230612T040835Z
UID:1363-1692100800-1692104400@goletasantabarbaralions.org
SUMMARY:Goleta Lions Club Meeting
DESCRIPTION:Goleta Lions Club Meeting at Frog Bar and Grill.  Meeting Starts at 12pm.  Lunch will be served.
URL:https://goletasantabarbaralions.org/event/goleta-lions-club-meeting-3/
LOCATION:Glen Annie Golf Club\, 405 Glen Annie Road\, Goleta\, CA\, 93117\, United States
CATEGORIES:Club Meeting
ATTACH;FMTTYPE=image/jpeg:https://goletasantabarbaralions.org/wp-content/uploads/2023/05/GlenAnnie-e1685303090761.jpg
END:VEVENT
BEGIN:VEVENT
DTSTART;TZID=America/Los_Angeles:20230718T120000
DTEND;TZID=America/Los_Angeles:20230718T130000
DTSTAMP:20260423T163708
CREATED:20230612T035407Z
LAST-MODIFIED:20230612T040743Z
UID:1360-1689681600-1689685200@goletasantabarbaralions.org
SUMMARY:Goleta Lions Club Meeting
DESCRIPTION:Goleta Lions Club Meeting at Frog Bar and Grill.  Meeting Starts at 12pm.  Lunch will be served.
URL:https://goletasantabarbaralions.org/event/goleta-lions-club-meeting-2/
LOCATION:Glen Annie Golf Club\, 405 Glen Annie Road\, Goleta\, CA\, 93117\, United States
CATEGORIES:Club Meeting
ATTACH;FMTTYPE=image/jpeg:https://goletasantabarbaralions.org/wp-content/uploads/2023/05/GlenAnnie-e1685303090761.jpg
END:VEVENT
BEGIN:VEVENT
DTSTART;TZID=America/Los_Angeles:20230620T120000
DTEND;TZID=America/Los_Angeles:20230620T130000
DTSTAMP:20260423T163708
CREATED:20230528T194018Z
LAST-MODIFIED:20230528T194914Z
UID:1304-1687262400-1687266000@goletasantabarbaralions.org
SUMMARY:Goleta Lions Club Meeting
DESCRIPTION:Goleta Lions Club Meeting at Frog Bar and Grill.  Meeting Starts at 12pm.  Lunch will be served.
URL:https://goletasantabarbaralions.org/event/goleta-lions-club-meeting/
LOCATION:Glen Annie Golf Club\, 405 Glen Annie Road\, Goleta\, CA\, 93117\, United States
CATEGORIES:Club Meeting
ATTACH;FMTTYPE=image/jpeg:https://goletasantabarbaralions.org/wp-content/uploads/2023/05/GlenAnnie-e1685303090761.jpg
END:VEVENT
BEGIN:VEVENT
DTSTART;TZID=America/Los_Angeles:20230606T120000
DTEND;TZID=America/Los_Angeles:20230606T130000
DTSTAMP:20260423T163708
CREATED:20230528T194404Z
LAST-MODIFIED:20230612T034307Z
UID:1307-1686052800-1686056400@goletasantabarbaralions.org
SUMMARY:Goleta Lions Club Meeting
DESCRIPTION:Goleta Lions Club Meeting at Codys Cafe.  Meeting Starts at 12pm.  Lunch will be served.
URL:https://goletasantabarbaralions.org/event/goleta-lions-meeting/
LOCATION:Codys Cafe\, 4898 Hollister Ave\, Santa Barbara\, CA\, 93111\, United States
CATEGORIES:Club Meeting
ATTACH;FMTTYPE=image/jpeg:https://goletasantabarbaralions.org/wp-content/uploads/2023/05/CodysCafe-e1685303028207.jpg
END:VEVENT
END:VCALENDAR